BEGIN:VCALENDAR
VERSION:2.0
PRODID:-//wp-events-plugin.com//7.2.3.1//EN
TZID:Europe/Paris
X-WR-TIMEZONE:Europe/Paris
BEGIN:VEVENT
UID:381@lasoupeauxcailloux44.fr
DTSTART;TZID=Europe/Paris:20260507T190000
DTEND;TZID=Europe/Paris:20260507T213000
DTSTAMP:20251215T100053Z
URL:https://lasoupeauxcailloux44.fr/events/conference-debat/
SUMMARY:Conférence débat -
DESCRIPTION:[vc_row][vc_column][vc_column_text]\nLe rendez-vous est donné 
 le Jeudi 8 Janvier pour une soirée événementielle gratuite et ouverte 
 à tous ! L'événement débutera à 19h00 par un Apéro Dînatoire conviv
 ial organisé à La M.A.R.E.\, offrant une belle opportunité d'échange a
 vant que ne commence\, à 20h00\, la Conférence principale qui se tiendra
  à la Salle Atlantique.\n[/vc_column_text][/vc_column][/vc_row]
CATEGORIES:Cafés débat,Evènement
LOCATION:La M.A.R.E. aux cailloux\, 8 bis rue Marie-Thérèse Eyquem\, Trig
 nac\, 44 - Loire-Atlantique\, 44570\, 
X-APPLE-STRUCTURED-LOCATION;VALUE=URI;X-ADDRESS=8 bis rue Marie-Thérèse E
 yquem\, Trignac\, 44 - Loire-Atlantique\, 44570\, ;X-APPLE-RADIUS=100;X-TI
 TLE=La M.A.R.E. aux cailloux:geo:0,0
END:VEVENT
BEGIN:VTIMEZONE
TZID:Europe/Paris
X-LIC-LOCATION:Europe/Paris
BEGIN:DAYLIGHT
DTSTART:20260329T030000
TZOFFSETFROM:+0100
TZOFFSETTO:+0200
TZNAME:CEST
END:DAYLIGHT
END:VTIMEZONE
END:VCALENDAR