BEGIN:VCALENDAR
VERSION:2.0
PRODID:-//wp-events-plugin.com//7.2.3.1//EN
TZID:Europe/Paris
X-WR-TIMEZONE:Europe/Paris
BEGIN:VEVENT
UID:393@lasoupeauxcailloux44.fr
DTSTART;TZID=Europe/Paris:20260224T093000
DTEND;TZID=Europe/Paris:20260224T123000
DTSTAMP:20260216T124237Z
URL:https://lasoupeauxcailloux44.fr/events/des-vers-de-terre-dans-mon-jard
 in/
SUMMARY:Tous au vert - Des vers de terre dans mon jardin
DESCRIPTION:[vc_row][vc_column width="1/2"][vc_single_image image="1282"][v
 c_column_text]\n\n\nLe mardi 24 février\, une animation originale et acce
 ssible à tous est proposée autour des vers de terre et de la vie du sol.
  Souvent discrets mais essentiels\, ces petits habitants de nos jardins jo
 uent un rôle majeur dans la fertilité des sols et l’équilibre du viva
 nt.\nCette matinée sera l’occasion de les observer de près\, de partic
 iper à un comptage et de mieux comprendre leur rôle écologique. Mais l
 ’événement ne se limite pas à l’observation scientifique : il invit
 e aussi au partage d’expériences sensibles autour du jardin. Poèmes\, 
 photos\, souvenirs ou simples ressentis… chacun pourra apporter son rega
 rd sur ces espaces vivants que nous cultivons et habitons.\nL’animation 
 se déroulera en présence d’étudiants de l’Université de Rennes\, q
 ui accompagneront les temps d’observation et d’échange.\nDeux temps s
 ont proposés :\n\n\n 	\nJardin de Noé\, de 9h30 à 11h\n\n 	\nPotag’ri
 t\, de 11h à 12h30\n\n\nCette animation est gratuite et ouverte à tous\,
  petits et grands.L’inscription est nécessaire auprès de la médiatric
 e jardin.\nUn moment convivial pour découvrir la richesse de la vie soute
 rraine… et partager autrement notre lien au jardin.\nPetits et grands so
 nt les bienvenus !\n\n\n\n[/vc_column_text][/vc_column][vc_column width="1
 /2"][/vc_column][/vc_row]
CATEGORIES:Tous au vert
END:VEVENT
BEGIN:VTIMEZONE
TZID:Europe/Paris
X-LIC-LOCATION:Europe/Paris
BEGIN:STANDARD
DTSTART:20251026T020000
TZOFFSETFROM:+0200
TZOFFSETTO:+0100
TZNAME:CET
END:STANDARD
END:VTIMEZONE
END:VCALENDAR